BEGIN:VCALENDAR
VERSION:2.0
PRODID:Spatie calendar-links
BEGIN:VEVENT
UID:a02035921bd56c0da80af46a7c2eb6fc
SUMMARY:Tractor Days
DTSTAMP;TZID=America/Edmonton:20230405T093000
DTSTART;TZID=America/Edmonton:20230405T093000
DTEND;TZID=America/Edmonton:20230405T170000
LOCATION:Didsbury\, Alberta\, Canada
END:VEVENT
END:VCALENDAR